BEGIN:VCALENDAR
VERSION:2.0
PRODID:-//CARE - ECPv6.15.14//NONSGML v1.0//EN
CALSCALE:GREGORIAN
METHOD:PUBLISH
X-ORIGINAL-URL:https://cableareacare.org
X-WR-CALDESC:Events for CARE
REFRESH-INTERVAL;VALUE=DURATION:PT1H
X-Robots-Tag:noindex
X-PUBLISHED-TTL:PT1H
BEGIN:VTIMEZONE
TZID:America/Chicago
BEGIN:DAYLIGHT
TZOFFSETFROM:-0600
TZOFFSETTO:-0500
TZNAME:CDT
DTSTART:20240310T080000
END:DAYLIGHT
BEGIN:STANDARD
TZOFFSETFROM:-0500
TZOFFSETTO:-0600
TZNAME:CST
DTSTART:20241103T070000
END:STANDARD
BEGIN:DAYLIGHT
TZOFFSETFROM:-0600
TZOFFSETTO:-0500
TZNAME:CDT
DTSTART:20250309T080000
END:DAYLIGHT
BEGIN:STANDARD
TZOFFSETFROM:-0500
TZOFFSETTO:-0600
TZNAME:CST
DTSTART:20251102T070000
END:STANDARD
BEGIN:DAYLIGHT
TZOFFSETFROM:-0600
TZOFFSETTO:-0500
TZNAME:CDT
DTSTART:20260308T080000
END:DAYLIGHT
BEGIN:STANDARD
TZOFFSETFROM:-0500
TZOFFSETTO:-0600
TZNAME:CST
DTSTART:20261101T070000
END:STANDARD
BEGIN:DAYLIGHT
TZOFFSETFROM:-0600
TZOFFSETTO:-0500
TZNAME:CDT
DTSTART:20270314T080000
END:DAYLIGHT
BEGIN:STANDARD
TZOFFSETFROM:-0500
TZOFFSETTO:-0600
TZNAME:CST
DTSTART:20271107T070000
END:STANDARD
END:VTIMEZONE
BEGIN:VEVENT
DTSTART;TZID=America/Chicago:20251111T170000
DTEND;TZID=America/Chicago:20251111T180000
DTSTAMP:20260422T171402
CREATED:20251111T190145Z
LAST-MODIFIED:20251111T190145Z
UID:631-1762880400-1762884000@cableareacare.org
SUMMARY:CARE Community Dinners
DESCRIPTION:
URL:https://cableareacare.org/event/care-community-dinners-3-2-2-2-2-2-3-3-2-2/
LOCATION:Cable Community Center\, 13660 Co Hwy M\, Cable\, WI\, 54821\, United States
CATEGORIES:Events
END:VEVENT
BEGIN:VEVENT
DTSTART;TZID=America/Chicago:20251209T170000
DTEND;TZID=America/Chicago:20251209T180000
DTSTAMP:20260422T171402
CREATED:20251111T190633Z
LAST-MODIFIED:20251111T190633Z
UID:633-1765299600-1765303200@cableareacare.org
SUMMARY:CARE Community Dinners
DESCRIPTION:
URL:https://cableareacare.org/event/care-community-dinners-3-2-2-2-2-2-3-4-2/
LOCATION:Cable Community Center\, 13660 Co Hwy M\, Cable\, WI\, 54821\, United States
CATEGORIES:Events
END:VEVENT
BEGIN:VEVENT
DTSTART;TZID=America/Chicago:20260113T170000
DTEND;TZID=America/Chicago:20260113T180000
DTSTAMP:20260422T171402
CREATED:20251111T190716Z
LAST-MODIFIED:20251111T190716Z
UID:635-1768323600-1768327200@cableareacare.org
SUMMARY:CARE Community Dinners
DESCRIPTION:
URL:https://cableareacare.org/event/care-community-dinners-3-2-2-2-2-2-3-2-3-2/
LOCATION:Cable Community Center\, 13660 Co Hwy M\, Cable\, WI\, 54821\, United States
CATEGORIES:Events
END:VEVENT
BEGIN:VEVENT
DTSTART;TZID=America/Chicago:20260210T170000
DTEND;TZID=America/Chicago:20260210T180000
DTSTAMP:20260422T171402
CREATED:20251111T190751Z
LAST-MODIFIED:20251111T190751Z
UID:637-1770742800-1770746400@cableareacare.org
SUMMARY:CARE Community Dinners
DESCRIPTION:
URL:https://cableareacare.org/event/care-community-dinners-3-2-2-2-2-2-3-2-2-3-2/
LOCATION:Cable Community Center\, 13660 Co Hwy M\, Cable\, WI\, 54821\, United States
CATEGORIES:Events
END:VEVENT
BEGIN:VEVENT
DTSTART;TZID=America/Chicago:20260310T170000
DTEND;TZID=America/Chicago:20260310T180000
DTSTAMP:20260422T171402
CREATED:20251111T190823Z
LAST-MODIFIED:20251111T190823Z
UID:639-1773162000-1773165600@cableareacare.org
SUMMARY:CARE Community Dinners
DESCRIPTION:
URL:https://cableareacare.org/event/care-community-dinners-3-2-2-2-2-2-3-2-2-2-3-2/
LOCATION:Cable Community Center\, 13660 Co Hwy M\, Cable\, WI\, 54821\, United States
CATEGORIES:Events
END:VEVENT
BEGIN:VEVENT
DTSTART;TZID=America/Chicago:20260414T170000
DTEND;TZID=America/Chicago:20260414T180000
DTSTAMP:20260422T171402
CREATED:20251111T190855Z
LAST-MODIFIED:20251111T190855Z
UID:641-1776186000-1776189600@cableareacare.org
SUMMARY:CARE Community Dinners
DESCRIPTION:
URL:https://cableareacare.org/event/care-community-dinners-3-2-2-2-2-2-3-2-2-2-2-2-2-2/
LOCATION:Cable Community Center\, 13660 Co Hwy M\, Cable\, WI\, 54821\, United States
CATEGORIES:Events
END:VEVENT
BEGIN:VEVENT
DTSTART;TZID=America/Chicago:20260704T080000
DTEND;TZID=America/Chicago:20260704T093000
DTSTAMP:20260422T171402
CREATED:20251111T190948Z
LAST-MODIFIED:20251111T190948Z
UID:643-1783152000-1783157400@cableareacare.org
SUMMARY:Care 5K 10K Walk/Run
DESCRIPTION:
URL:https://cableareacare.org/event/care-5k-10k-walk-run-2-2-2/
LOCATION:Cable\, WI
END:VEVENT
END:VCALENDAR