BEGIN:VCALENDAR
VERSION:2.0
PRODID:-//CARE - ECPv6.15.14//NONSGML v1.0//EN
CALSCALE:GREGORIAN
METHOD:PUBLISH
X-WR-CALNAME:CARE
X-ORIGINAL-URL:https://cableareacare.org
X-WR-CALDESC:Events for CARE
REFRESH-INTERVAL;VALUE=DURATION:PT1H
X-Robots-Tag:noindex
X-PUBLISHED-TTL:PT1H
BEGIN:VTIMEZONE
TZID:America/Chicago
BEGIN:DAYLIGHT
TZOFFSETFROM:-0600
TZOFFSETTO:-0500
TZNAME:CDT
DTSTART:20170312T080000
END:DAYLIGHT
BEGIN:STANDARD
TZOFFSETFROM:-0500
TZOFFSETTO:-0600
TZNAME:CST
DTSTART:20171105T070000
END:STANDARD
BEGIN:DAYLIGHT
TZOFFSETFROM:-0600
TZOFFSETTO:-0500
TZNAME:CDT
DTSTART:20180311T080000
END:DAYLIGHT
BEGIN:STANDARD
TZOFFSETFROM:-0500
TZOFFSETTO:-0600
TZNAME:CST
DTSTART:20181104T070000
END:STANDARD
BEGIN:DAYLIGHT
TZOFFSETFROM:-0600
TZOFFSETTO:-0500
TZNAME:CDT
DTSTART:20190310T080000
END:DAYLIGHT
BEGIN:STANDARD
TZOFFSETFROM:-0500
TZOFFSETTO:-0600
TZNAME:CST
DTSTART:20191103T070000
END:STANDARD
BEGIN:DAYLIGHT
TZOFFSETFROM:-0600
TZOFFSETTO:-0500
TZNAME:CDT
DTSTART:20200308T080000
END:DAYLIGHT
BEGIN:STANDARD
TZOFFSETFROM:-0500
TZOFFSETTO:-0600
TZNAME:CST
DTSTART:20201101T070000
END:STANDARD
BEGIN:DAYLIGHT
TZOFFSETFROM:-0600
TZOFFSETTO:-0500
TZNAME:CDT
DTSTART:20210314T080000
END:DAYLIGHT
BEGIN:STANDARD
TZOFFSETFROM:-0500
TZOFFSETTO:-0600
TZNAME:CST
DTSTART:20211107T070000
END:STANDARD
BEGIN:DAYLIGHT
TZOFFSETFROM:-0600
TZOFFSETTO:-0500
TZNAME:CDT
DTSTART:20220313T080000
END:DAYLIGHT
BEGIN:STANDARD
TZOFFSETFROM:-0500
TZOFFSETTO:-0600
TZNAME:CST
DTSTART:20221106T070000
END:STANDARD
BEGIN:DAYLIGHT
TZOFFSETFROM:-0600
TZOFFSETTO:-0500
TZNAME:CDT
DTSTART:20230312T080000
END:DAYLIGHT
BEGIN:STANDARD
TZOFFSETFROM:-0500
TZOFFSETTO:-0600
TZNAME:CST
DTSTART:20231105T070000
END:STANDARD
BEGIN:DAYLIGHT
TZOFFSETFROM:-0600
TZOFFSETTO:-0500
TZNAME:CDT
DTSTART:20240310T080000
END:DAYLIGHT
BEGIN:STANDARD
TZOFFSETFROM:-0500
TZOFFSETTO:-0600
TZNAME:CST
DTSTART:20241103T070000
END:STANDARD
BEGIN:DAYLIGHT
TZOFFSETFROM:-0600
TZOFFSETTO:-0500
TZNAME:CDT
DTSTART:20250309T080000
END:DAYLIGHT
BEGIN:STANDARD
TZOFFSETFROM:-0500
TZOFFSETTO:-0600
TZNAME:CST
DTSTART:20251102T070000
END:STANDARD
BEGIN:DAYLIGHT
TZOFFSETFROM:-0600
TZOFFSETTO:-0500
TZNAME:CDT
DTSTART:20260308T080000
END:DAYLIGHT
BEGIN:STANDARD
TZOFFSETFROM:-0500
TZOFFSETTO:-0600
TZNAME:CST
DTSTART:20261101T070000
END:STANDARD
END:VTIMEZONE
BEGIN:VEVENT
DTSTART;TZID=America/Chicago:20250704T080000
DTEND;TZID=America/Chicago:20250704T093000
DTSTAMP:20260422T165604
CREATED:20250401T185332Z
LAST-MODIFIED:20250401T185332Z
UID:611-1751616000-1751621400@cableareacare.org
SUMMARY:Care 5K 10K Walk/Run
DESCRIPTION:
URL:https://cableareacare.org/event/care-5k-10k-walk-run-2-2/
LOCATION:Cable\, WI
END:VEVENT
BEGIN:VEVENT
DTSTART;TZID=America/Chicago:20250415T170000
DTEND;TZID=America/Chicago:20250415T180000
DTSTAMP:20260422T165604
CREATED:20241112T212447Z
LAST-MODIFIED:20241112T212447Z
UID:608-1744736400-1744740000@cableareacare.org
SUMMARY:CARE Community Dinners
DESCRIPTION:
URL:https://cableareacare.org/event/care-community-dinners-3-2-2-2-2-2-3-2-2-2-2-2-2/
LOCATION:Cable Community Center\, 13660 Co Hwy M\, Cable\, WI\, 54821\, United States
CATEGORIES:Events
END:VEVENT
BEGIN:VEVENT
DTSTART;TZID=America/Chicago:20250311T170000
DTEND;TZID=America/Chicago:20250311T180000
DTSTAMP:20260422T165604
CREATED:20241112T212409Z
LAST-MODIFIED:20241112T212409Z
UID:606-1741712400-1741716000@cableareacare.org
SUMMARY:CARE Community Dinners
DESCRIPTION:
URL:https://cableareacare.org/event/care-community-dinners-3-2-2-2-2-2-3-2-2-2-3/
LOCATION:Cable Community Center\, 13660 Co Hwy M\, Cable\, WI\, 54821\, United States
CATEGORIES:Events
END:VEVENT
BEGIN:VEVENT
DTSTART;TZID=America/Chicago:20250211T170000
DTEND;TZID=America/Chicago:20250211T180000
DTSTAMP:20260422T165604
CREATED:20241112T212332Z
LAST-MODIFIED:20241112T212332Z
UID:604-1739293200-1739296800@cableareacare.org
SUMMARY:CARE Community Dinners
DESCRIPTION:
URL:https://cableareacare.org/event/care-community-dinners-3-2-2-2-2-2-3-2-2-3/
LOCATION:Cable Community Center\, 13660 Co Hwy M\, Cable\, WI\, 54821\, United States
CATEGORIES:Events
END:VEVENT
BEGIN:VEVENT
DTSTART;TZID=America/Chicago:20250114T170000
DTEND;TZID=America/Chicago:20250114T180000
DTSTAMP:20260422T165604
CREATED:20241112T212251Z
LAST-MODIFIED:20241112T212251Z
UID:602-1736874000-1736877600@cableareacare.org
SUMMARY:CARE Community Dinners
DESCRIPTION:
URL:https://cableareacare.org/event/care-community-dinners-3-2-2-2-2-2-3-2-3/
LOCATION:Cable Community Center\, 13660 Co Hwy M\, Cable\, WI\, 54821\, United States
CATEGORIES:Events
END:VEVENT
BEGIN:VEVENT
DTSTART;TZID=America/Chicago:20241210T170000
DTEND;TZID=America/Chicago:20241210T180000
DTSTAMP:20260422T165604
CREATED:20241112T212027Z
LAST-MODIFIED:20241112T212027Z
UID:600-1733850000-1733853600@cableareacare.org
SUMMARY:CARE Community Dinners
DESCRIPTION:
URL:https://cableareacare.org/event/care-community-dinners-3-2-2-2-2-2-3-4/
LOCATION:Cable Community Center\, 13660 Co Hwy M\, Cable\, WI\, 54821\, United States
CATEGORIES:Events
END:VEVENT
BEGIN:VEVENT
DTSTART;TZID=America/Chicago:20241112T170000
DTEND;TZID=America/Chicago:20241112T180000
DTSTAMP:20260422T165604
CREATED:20241112T211943Z
LAST-MODIFIED:20241112T211943Z
UID:598-1731430800-1731434400@cableareacare.org
SUMMARY:CARE Community Dinners
DESCRIPTION:
URL:https://cableareacare.org/event/care-community-dinners-3-2-2-2-2-2-3-3-2/
LOCATION:Cable Community Center\, 13660 Co Hwy M\, Cable\, WI\, 54821\, United States
CATEGORIES:Events
ORGANIZER;CN="Redbery Books":MAILTO:read@redberybooks.com
END:VEVENT
BEGIN:VEVENT
DTSTART;TZID=America/Chicago:20241008T170000
DTEND;TZID=America/Chicago:20241008T180000
DTSTAMP:20260422T165604
CREATED:20241112T211845Z
LAST-MODIFIED:20241112T211845Z
UID:596-1728406800-1728410400@cableareacare.org
SUMMARY:CARE Community Dinners
DESCRIPTION:
URL:https://cableareacare.org/event/care-community-dinners-3-2-2-2-2-2-4/
LOCATION:Cable Community Center\, 13660 Co Hwy M\, Cable\, WI\, 54821\, United States
CATEGORIES:Events
END:VEVENT
BEGIN:VEVENT
DTSTART;TZID=America/Chicago:20240409T170000
DTEND;TZID=America/Chicago:20240409T180000
DTSTAMP:20260422T165604
CREATED:20231010T220026Z
LAST-MODIFIED:20231011T201450Z
UID:522-1712682000-1712685600@cableareacare.org
SUMMARY:CARE Community Dinners
DESCRIPTION:
URL:https://cableareacare.org/event/care-community-dinners-3-2-2-2-2-2-3-2-2-2-2-2/
LOCATION:Cable Community Center\, 13660 Co Hwy M\, Cable\, WI\, 54821\, United States
CATEGORIES:Events
END:VEVENT
BEGIN:VEVENT
DTSTART;TZID=America/Chicago:20240312T170000
DTEND;TZID=America/Chicago:20240312T180000
DTSTAMP:20260422T165604
CREATED:20221013T203123Z
LAST-MODIFIED:20231011T201402Z
UID:478-1710262800-1710266400@cableareacare.org
SUMMARY:CARE Community Dinners
DESCRIPTION:
URL:https://cableareacare.org/event/care-community-dinners-3-2-2-2-2-2-3-2-2-2/
LOCATION:Cable Community Center\, 13660 Co Hwy M\, Cable\, WI\, 54821\, United States
CATEGORIES:Events
END:VEVENT
BEGIN:VEVENT
DTSTART;TZID=America/Chicago:20240213T170000
DTEND;TZID=America/Chicago:20240213T180000
DTSTAMP:20260422T165604
CREATED:20221013T203036Z
LAST-MODIFIED:20231011T201329Z
UID:476-1707843600-1707847200@cableareacare.org
SUMMARY:CARE Community Dinners
DESCRIPTION:
URL:https://cableareacare.org/event/care-community-dinners-3-2-2-2-2-2-3-2-2/
LOCATION:Cable Community Center\, 13660 Co Hwy M\, Cable\, WI\, 54821\, United States
CATEGORIES:Events
END:VEVENT
BEGIN:VEVENT
DTSTART;TZID=America/Chicago:20240109T170000
DTEND;TZID=America/Chicago:20240109T180000
DTSTAMP:20260422T165604
CREATED:20221013T202932Z
LAST-MODIFIED:20231011T201255Z
UID:474-1704819600-1704823200@cableareacare.org
SUMMARY:CARE Community Dinners
DESCRIPTION:
URL:https://cableareacare.org/event/care-community-dinners-3-2-2-2-2-2-3-2/
LOCATION:Cable Community Center\, 13660 Co Hwy M\, Cable\, WI\, 54821\, United States
CATEGORIES:Events
END:VEVENT
BEGIN:VEVENT
DTSTART;TZID=America/Chicago:20231212T170000
DTEND;TZID=America/Chicago:20231212T180000
DTSTAMP:20260422T165604
CREATED:20221013T202731Z
LAST-MODIFIED:20231011T201142Z
UID:471-1702400400-1702404000@cableareacare.org
SUMMARY:CARE Community Dinners
DESCRIPTION:
URL:https://cableareacare.org/event/care-community-dinners-3-2-2-2-2-2-3/
LOCATION:Cable Community Center\, 13660 Co Hwy M\, Cable\, WI\, 54821\, United States
CATEGORIES:Events
END:VEVENT
BEGIN:VEVENT
DTSTART;TZID=America/Chicago:20231114T170000
DTEND;TZID=America/Chicago:20231114T180000
DTSTAMP:20260422T165604
CREATED:20231011T200909Z
LAST-MODIFIED:20231011T200909Z
UID:524-1699981200-1699984800@cableareacare.org
SUMMARY:CARE Community Dinners
DESCRIPTION:
URL:https://cableareacare.org/event/care-community-dinners-3-2-2-2-2-2-3-3/
LOCATION:Cable Community Center\, 13660 Co Hwy M\, Cable\, WI\, 54821\, United States
CATEGORIES:Events
ORGANIZER;CN="Redbery Books":MAILTO:read@redberybooks.com
END:VEVENT
BEGIN:VEVENT
DTSTART;TZID=America/Chicago:20231010T170000
DTEND;TZID=America/Chicago:20231010T180000
DTSTAMP:20260422T165604
CREATED:20191003T181009Z
LAST-MODIFIED:20231011T201002Z
UID:329-1696957200-1696960800@cableareacare.org
SUMMARY:CARE Community Dinners
DESCRIPTION:
URL:https://cableareacare.org/event/care-community-dinners-3-2-2-2-2-2/
LOCATION:Cable Community Center\, 13660 Co Hwy M\, Cable\, WI\, 54821\, United States
CATEGORIES:Events
END:VEVENT
BEGIN:VEVENT
DTSTART;TZID=America/Chicago:20230704T080000
DTEND;TZID=America/Chicago:20230704T093000
DTSTAMP:20260422T165604
CREATED:20221013T203324Z
LAST-MODIFIED:20221013T203324Z
UID:482-1688457600-1688463000@cableareacare.org
SUMMARY:Care 5K 10K Walk/Run
DESCRIPTION:
URL:https://cableareacare.org/event/care-5k-10k-walk-run-2/
LOCATION:Cable\, WI
END:VEVENT
BEGIN:VEVENT
DTSTART;TZID=America/Chicago:20230411T170000
DTEND;TZID=America/Chicago:20230411T180000
DTSTAMP:20260422T165604
CREATED:20221013T203212Z
LAST-MODIFIED:20221013T203212Z
UID:480-1681232400-1681236000@cableareacare.org
SUMMARY:CARE Community Dinners
DESCRIPTION:
URL:https://cableareacare.org/event/care-community-dinners-3-2-2-2-2-2-3-2-2-2-2/
LOCATION:Cable Community Center\, 13660 Co Hwy M\, Cable\, WI\, 54821\, United States
CATEGORIES:Events
END:VEVENT
BEGIN:VEVENT
DTSTART;TZID=America/Chicago:20221108T170000
DTEND;TZID=America/Chicago:20221108T180000
DTSTAMP:20260422T165604
CREATED:20221013T200355Z
LAST-MODIFIED:20221013T204440Z
UID:466-1667926800-1667930400@cableareacare.org
SUMMARY:NO DINNER DUE TO ELECTION
DESCRIPTION:
URL:https://cableareacare.org/event/care-community-dinners-3-2-2-2-2-2-2/
LOCATION:GET OUT AND VOTE!
CATEGORIES:Events
END:VEVENT
BEGIN:VEVENT
DTSTART;TZID=America/Chicago:20210704T080000
DTEND;TZID=America/Chicago:20210704T093000
DTSTAMP:20260422T165604
CREATED:20200227T182754Z
LAST-MODIFIED:20210623T194117Z
UID:372-1625385600-1625391000@cableareacare.org
SUMMARY:Care 5K 10K Walk/Run
DESCRIPTION:
URL:https://cableareacare.org/event/care-5k-10k-walk-run/
LOCATION:Cable\, WI
END:VEVENT
BEGIN:VEVENT
DTSTART;TZID=America/Chicago:20200310T170000
DTEND;TZID=America/Chicago:20200310T180000
DTSTAMP:20260422T165604
CREATED:20191003T180934Z
LAST-MODIFIED:20191003T192412Z
UID:327-1583859600-1583863200@cableareacare.org
SUMMARY:CARE Community Dinners
DESCRIPTION:
URL:https://cableareacare.org/event/care-community-dinners-3-2-2-2-2/
LOCATION:Cable Community Center\, 13660 Co Hwy M\, Cable\, WI\, 54821\, United States
CATEGORIES:Events
END:VEVENT
BEGIN:VEVENT
DTSTART;TZID=America/Chicago:20200211T170000
DTEND;TZID=America/Chicago:20200211T180000
DTSTAMP:20260422T165604
CREATED:20191003T180904Z
LAST-MODIFIED:20191003T192149Z
UID:325-1581440400-1581444000@cableareacare.org
SUMMARY:CARE Community Dinners
DESCRIPTION:
URL:https://cableareacare.org/event/care-community-dinners-3-2-2-2/
LOCATION:Cable Community Center\, 13660 Co Hwy M\, Cable\, WI\, 54821\, United States
CATEGORIES:Events
END:VEVENT
BEGIN:VEVENT
DTSTART;TZID=America/Chicago:20200114T170000
DTEND;TZID=America/Chicago:20200114T183000
DTSTAMP:20260422T165604
CREATED:20191003T180743Z
LAST-MODIFIED:20200104T215004Z
UID:321-1579021200-1579026600@cableareacare.org
SUMMARY:A CARE Christmas - Rescheduled
DESCRIPTION:Due to bad weather on December 1st\, we were forced to reschedule our event. It will be at our normal Community Dinner with some extras like appetizers and a glass of wine! We will have basket raffles\, silent auctions\, and more!!
URL:https://cableareacare.org/event/a-care-christmas-2/
LOCATION:Cable Community Center\, 13660 Co Hwy M\, Cable\, WI\, 54821\, United States
END:VEVENT
BEGIN:VEVENT
DTSTART;TZID=America/Chicago:20200114T170000
DTEND;TZID=America/Chicago:20200114T180000
DTSTAMP:20260422T165604
CREATED:20191003T180831Z
LAST-MODIFIED:20191003T192329Z
UID:323-1579021200-1579024800@cableareacare.org
SUMMARY:CARE Community Dinners
DESCRIPTION:
URL:https://cableareacare.org/event/care-community-dinners-3-2-2/
LOCATION:Cable Community Center\, 13660 Co Hwy M\, Cable\, WI\, 54821\, United States
CATEGORIES:Events
END:VEVENT
BEGIN:VEVENT
DTSTART;TZID=America/Chicago:20191210T170000
DTEND;TZID=America/Chicago:20191210T180000
DTSTAMP:20260422T165604
CREATED:20191003T180658Z
LAST-MODIFIED:20191003T191947Z
UID:319-1575997200-1576000800@cableareacare.org
SUMMARY:CARE Community Dinners
DESCRIPTION:
URL:https://cableareacare.org/event/care-community-dinners-3-2/
LOCATION:Cable Community Center\, 13660 Co Hwy M\, Cable\, WI\, 54821\, United States
CATEGORIES:Events
END:VEVENT
BEGIN:VEVENT
DTSTART;TZID=America/Chicago:20191112T170000
DTEND;TZID=America/Chicago:20191112T180000
DTSTAMP:20260422T165604
CREATED:20191003T180544Z
LAST-MODIFIED:20191003T191733Z
UID:317-1573578000-1573581600@cableareacare.org
SUMMARY:CARE Community Dinners
DESCRIPTION:
URL:https://cableareacare.org/event/care-community-dinners-3/
LOCATION:Cable Community Center\, 13660 Co Hwy M\, Cable\, WI\, 54821\, United States
CATEGORIES:Events
ORGANIZER;CN="Redbery Books":MAILTO:read@redberybooks.com
END:VEVENT
BEGIN:VEVENT
DTSTART;TZID=America/Chicago:20190409T170000
DTEND;TZID=America/Chicago:20190409T180000
DTSTAMP:20260422T165604
CREATED:20190227T153451Z
LAST-MODIFIED:20190227T153451Z
UID:283-1554829200-1554832800@cableareacare.org
SUMMARY:CARE Community Dinners
DESCRIPTION:
URL:https://cableareacare.org/event/care-community-dinners/
CATEGORIES:Events
END:VEVENT
BEGIN:VEVENT
DTSTART;TZID=America/Chicago:20190312T170000
DTEND;TZID=America/Chicago:20190312T180000
DTSTAMP:20260422T165604
CREATED:20190227T153540Z
LAST-MODIFIED:20190227T153540Z
UID:284-1552410000-1552413600@cableareacare.org
SUMMARY:CARE Community Dinners
DESCRIPTION:
URL:https://cableareacare.org/event/care-community-dinners-2-2/
CATEGORIES:Events
END:VEVENT
BEGIN:VEVENT
DTSTART;TZID=America/Chicago:20181211T170000
DTEND;TZID=America/Chicago:20181211T180000
DTSTAMP:20260422T165604
CREATED:20181010T064353Z
LAST-MODIFIED:20181030T142215Z
UID:260-1544547600-1544551200@cableareacare.org
SUMMARY:CARE Community Dinners
DESCRIPTION:
URL:https://cableareacare.org/event/care-community-dinners-december-2018/
LOCATION:Cable Community Center\, 13660 Co Hwy M\, Cable\, WI\, 54821\, United States
CATEGORIES:Events
END:VEVENT
BEGIN:VEVENT
DTSTART;TZID=America/Chicago:20181209T163000
DTEND;TZID=America/Chicago:20181209T183000
DTSTAMP:20260422T165604
CREATED:20181112T201931Z
LAST-MODIFIED:20181112T201931Z
UID:272-1544373000-1544380200@cableareacare.org
SUMMARY:A CARE Christmas
DESCRIPTION:
URL:https://cableareacare.org/event/a-care-christmas/
LOCATION:Garmisch USA Resort\, 23040 Garmisch Road\, Cable\, 54821\, United States
END:VEVENT
BEGIN:VEVENT
DTSTART;TZID=America/Chicago:20181113T170000
DTEND;TZID=America/Chicago:20181113T180000
DTSTAMP:20260422T165604
CREATED:20181010T064147Z
LAST-MODIFIED:20181030T142144Z
UID:256-1542128400-1542132000@cableareacare.org
SUMMARY:CARE Community Dinners
DESCRIPTION:
URL:https://cableareacare.org/event/care-community-dinners-november-2018/
LOCATION:Cable Community Center\, 13660 Co Hwy M\, Cable\, WI\, 54821\, United States
CATEGORIES:Events
END:VEVENT
END:VCALENDAR